BEGIN:VCALENDAR
VERSION:2.0
CREATED:20260414T113343Z
PRODID:-//BullFrog AI Holdings\, Inc./Equisolve Calendar v1.0//EN
METHOD:PUBLISH
BEGIN:VEVENT
UID:7f9287413a98851b8703a9fbbbbd23d3
DTSTAMP:20260421T083242Z
DTSTART:20260417T000000
DTEND:20260422T000000
SUMMARY: American Association for Cancer Research (AACR) Annual Meeting 2026
DESCRIPTION: American Association for Cancer Research (AACR) Annual Meeting 2026\nDate: Apr 17 – Apr 22\, 2026\nSan Diego\, CA
LOCATION:San Diego\, CA
END:VEVENT
END:VCALENDAR
